BEGIN:VCALENDAR
VERSION:2.0
PRODID:-//On the Spot - ECPv6.11.2.1//NONSGML v1.0//EN
CALSCALE:GREGORIAN
METHOD:PUBLISH
X-ORIGINAL-URL:https://www.massageonthespot.co.uk
X-WR-CALDESC:Events for On the Spot
REFRESH-INTERVAL;VALUE=DURATION:PT1H
X-Robots-Tag:noindex
X-PUBLISHED-TTL:PT1H
BEGIN:VTIMEZONE
TZID:Europe/London
BEGIN:DAYLIGHT
TZOFFSETFROM:+0000
TZOFFSETTO:+0100
TZNAME:BST
DTSTART:20170326T010000
END:DAYLIGHT
BEGIN:STANDARD
TZOFFSETFROM:+0100
TZOFFSETTO:+0000
TZNAME:GMT
DTSTART:20171029T010000
END:STANDARD
BEGIN:DAYLIGHT
TZOFFSETFROM:+0000
TZOFFSETTO:+0100
TZNAME:BST
DTSTART:20180325T010000
END:DAYLIGHT
BEGIN:STANDARD
TZOFFSETFROM:+0100
TZOFFSETTO:+0000
TZNAME:GMT
DTSTART:20181028T010000
END:STANDARD
BEGIN:DAYLIGHT
TZOFFSETFROM:+0000
TZOFFSETTO:+0100
TZNAME:BST
DTSTART:20190331T010000
END:DAYLIGHT
BEGIN:STANDARD
TZOFFSETFROM:+0100
TZOFFSETTO:+0000
TZNAME:GMT
DTSTART:20191027T010000
END:STANDARD
END:VTIMEZONE
BEGIN:VEVENT
DTSTART;VALUE=DATE:20190830
DTEND;VALUE=DATE:20190831
DTSTAMP:20260421T101141
CREATED:20190410T095649Z
LAST-MODIFIED:20190411T111815Z
UID:2632-1567123200-1567209599@www.massageonthespot.co.uk
SUMMARY:Japanese Knotweed Solutions – On-site massage
DESCRIPTION:On-site massage demonstrates a commitment to the welfare of your staff\, helping to improve their physical\, mental and emotional health. This is not just about relaxation and reducing stress\, although massage helps in both these areas\, it also helps people feel valued and perform more productively\, effectively and creatively because we help keep ensure their lives are well-balanced.
URL:https://www.massageonthespot.co.uk/event/japanese-knotweed-solutions-site-massage-3-2/
LOCATION:Japanese Knotweed Solutions\, Itadori House\, Melton Street\, Radcliffe\, \, Manchester\, M26 4BR\, United Kingdom
CATEGORIES:On-Site Office massage
ORGANIZER;CN="On The Spot":MAILTO:sally@massageonthespot.co.uk
END:VEVENT
BEGIN:VEVENT
DTSTART;VALUE=DATE:20190726
DTEND;VALUE=DATE:20190727
DTSTAMP:20260421T101141
CREATED:20190410T095420Z
LAST-MODIFIED:20190411T111850Z
UID:2630-1564099200-1564185599@www.massageonthespot.co.uk
SUMMARY:Japanese Knotweed Solutions – On-site massage
DESCRIPTION:On-site massage demonstrates a commitment to the welfare of your staff\, helping to improve their physical\, mental and emotional health. This is not just about relaxation and reducing stress\, although massage helps in both these areas\, it also helps people feel valued and perform more productively\, effectively and creatively because we help keep ensure their lives are well-balanced.
URL:https://www.massageonthespot.co.uk/event/japanese-knotweed-solutions-site-massage-3/
LOCATION:Japanese Knotweed Solutions\, Itadori House\, Melton Street\, Radcliffe\, \, Manchester\, M26 4BR\, United Kingdom
CATEGORIES:On-Site Office massage
ORGANIZER;CN="On The Spot":MAILTO:sally@massageonthespot.co.uk
END:VEVENT
BEGIN:VEVENT
DTSTART;VALUE=DATE:20190628
DTEND;VALUE=DATE:20190629
DTSTAMP:20260421T101141
CREATED:20180410T095913Z
LAST-MODIFIED:20190411T111927Z
UID:1765-1561680000-1561766399@www.massageonthespot.co.uk
SUMMARY:Japanese Knotweed Solutions – On-site massage
DESCRIPTION:On-site massage demonstrates a commitment to the welfare of your staff\, helping to improve their physical\, mental and emotional health. This is not just about relaxation and reducing stress\, although massage helps in both these areas\, it also helps people feel valued and perform more productively\, effectively and creatively because we help keep ensure their lives are well-balanced.
URL:https://www.massageonthespot.co.uk/event/japanese-knotweed-solutions-site-massage/
LOCATION:Japanese Knotweed Solutions\, Itadori House\, Melton Street\, Radcliffe\, \, Manchester\, M26 4BR\, United Kingdom
CATEGORIES:On-Site Office massage
ORGANIZER;CN="On The Spot":MAILTO:sally@massageonthespot.co.uk
END:VEVENT
BEGIN:VEVENT
DTSTART;VALUE=DATE:20181221
DTEND;VALUE=DATE:20181222
DTSTAMP:20260421T101141
CREATED:20181016T105135Z
LAST-MODIFIED:20181016T105214Z
UID:2407-1545350400-1545436799@www.massageonthespot.co.uk
SUMMARY:Japanese Knotweed Solutions – On-site massage
DESCRIPTION:
URL:https://www.massageonthespot.co.uk/event/japanese-knotweed-solutions-site-massage-2-2/
LOCATION:Japanese Knotweed Solutions\, Itadori House\, Melton Street\, Radcliffe\, \, Manchester\, M26 4BR\, United Kingdom
CATEGORIES:On-Site Office massage
ORGANIZER;CN="On The Spot":MAILTO:sally@massageonthespot.co.uk
END:VEVENT
BEGIN:VEVENT
DTSTART;VALUE=DATE:20181220
DTEND;VALUE=DATE:20181221
DTSTAMP:20260421T101141
CREATED:20181016T104923Z
LAST-MODIFIED:20181016T104923Z
UID:2402-1545264000-1545350399@www.massageonthespot.co.uk
SUMMARY:Office Massage\, ANZ Bank\, Canary Wharf
DESCRIPTION:
URL:https://www.massageonthespot.co.uk/event/office-massage-anz-bank-canary-wharf-3-2-2-2/
LOCATION:ANZ Bank\, 40 Bank Street\, London\, E14 5EJ
CATEGORIES:On-Site Office massage
ORGANIZER;CN="On The Spot":MAILTO:sally@massageonthespot.co.uk
END:VEVENT
BEGIN:VEVENT
DTSTART;VALUE=DATE:20181128
DTEND;VALUE=DATE:20181129
DTSTAMP:20260421T101141
CREATED:20181016T104903Z
LAST-MODIFIED:20181016T104903Z
UID:2400-1543363200-1543449599@www.massageonthespot.co.uk
SUMMARY:Office Massage\, ANZ Bank\, Canary Wharf
DESCRIPTION:
URL:https://www.massageonthespot.co.uk/event/office-massage-anz-bank-canary-wharf-3-2-2/
LOCATION:ANZ Bank\, 40 Bank Street\, London\, E14 5EJ
CATEGORIES:On-Site Office massage
ORGANIZER;CN="On The Spot":MAILTO:sally@massageonthespot.co.uk
END:VEVENT
BEGIN:VEVENT
DTSTART;VALUE=DATE:20181123
DTEND;VALUE=DATE:20181124
DTSTAMP:20260421T101141
CREATED:20181016T105240Z
LAST-MODIFIED:20181016T105240Z
UID:2410-1542931200-1543017599@www.massageonthespot.co.uk
SUMMARY:Japanese Knotweed Solutions – On-site massage
DESCRIPTION:
URL:https://www.massageonthespot.co.uk/event/japanese-knotweed-solutions-site-massage-2-2-2/
LOCATION:Japanese Knotweed Solutions\, Itadori House\, Melton Street\, Radcliffe\, \, Manchester\, M26 4BR\, United Kingdom
CATEGORIES:On-Site Office massage
ORGANIZER;CN="On The Spot":MAILTO:sally@massageonthespot.co.uk
END:VEVENT
BEGIN:VEVENT
DTSTART;VALUE=DATE:20181108
DTEND;VALUE=DATE:20181109
DTSTAMP:20260421T101141
CREATED:20181016T104836Z
LAST-MODIFIED:20181016T104836Z
UID:2398-1541635200-1541721599@www.massageonthespot.co.uk
SUMMARY:Office Massage\, ANZ Bank\, Canary Wharf
DESCRIPTION:
URL:https://www.massageonthespot.co.uk/event/office-massage-anz-bank-canary-wharf-3-2/
LOCATION:ANZ Bank\, 40 Bank Street\, London\, E14 5EJ
CATEGORIES:On-Site Office massage
ORGANIZER;CN="On The Spot":MAILTO:sally@massageonthespot.co.uk
END:VEVENT
BEGIN:VEVENT
DTSTART;VALUE=DATE:20181026
DTEND;VALUE=DATE:20181027
DTSTAMP:20260421T101141
CREATED:20181016T105022Z
LAST-MODIFIED:20181016T105058Z
UID:2405-1540512000-1540598399@www.massageonthespot.co.uk
SUMMARY:Japanese Knotweed Solutions – On-site massage
DESCRIPTION:
URL:https://www.massageonthespot.co.uk/event/japanese-knotweed-solutions-site-massage-2/
LOCATION:Japanese Knotweed Solutions\, Itadori House\, Melton Street\, Radcliffe\, \, Manchester\, M26 4BR\, United Kingdom
CATEGORIES:On-Site Office massage
ORGANIZER;CN="On The Spot":MAILTO:sally@massageonthespot.co.uk
END:VEVENT
BEGIN:VEVENT
DTSTART;TZID=Europe/London:20180928T093000
DTEND;TZID=Europe/London:20180928T170000
DTSTAMP:20260421T101141
CREATED:20180417T185604Z
LAST-MODIFIED:20180417T190454Z
UID:2168-1538127000-1538154000@www.massageonthespot.co.uk
SUMMARY:Office Massage\, Radcliffe\, Manchester
DESCRIPTION:
URL:https://www.massageonthespot.co.uk/event/office-massage-radcliffe-manchester-7/
LOCATION:Japanese Knotweed Solutions\, Itadori House\, Melton Street\, Radcliffe\, \, Manchester\, M26 4BR\, United Kingdom
CATEGORIES:On-Site Office massage
ORGANIZER;CN="On The Spot":MAILTO:sally@massageonthespot.co.uk
END:VEVENT
BEGIN:VEVENT
DTSTART;TZID=Europe/London:20180803T093000
DTEND;TZID=Europe/London:20180803T170000
DTSTAMP:20260421T101141
CREATED:20180417T185245Z
LAST-MODIFIED:20180417T190547Z
UID:2166-1533288600-1533315600@www.massageonthespot.co.uk
SUMMARY:Office Massage\, Radcliffe Manchester
DESCRIPTION:
URL:https://www.massageonthespot.co.uk/event/office-massage-radcliffe-manchester-6/
LOCATION:Japanese Knotweed Solutions\, Itadori House\, Melton Street\, Radcliffe\, \, Manchester\, M26 4BR\, United Kingdom
CATEGORIES:On-Site Office massage
ORGANIZER;CN="On The Spot":MAILTO:sally@massageonthespot.co.uk
END:VEVENT
BEGIN:VEVENT
DTSTART;TZID=Europe/London:20180629T093000
DTEND;TZID=Europe/London:20180629T170000
DTSTAMP:20260421T101141
CREATED:20171106T124304Z
LAST-MODIFIED:20171106T124304Z
UID:2020-1530264600-1530291600@www.massageonthespot.co.uk
SUMMARY:Office Massage\, Radcliffe\, Manchester
DESCRIPTION:
URL:https://www.massageonthespot.co.uk/event/office-massage-radcliffe-manchester-5/
LOCATION:Japanese Knotweed Solutions\, Itadori House\, Melton Street\, Radcliffe\, \, Manchester\, M26 4BR\, United Kingdom
CATEGORIES:On-Site Office massage
ORGANIZER;CN="On The Spot":MAILTO:sally@massageonthespot.co.uk
END:VEVENT
BEGIN:VEVENT
DTSTART;VALUE=DATE:20180627
DTEND;VALUE=DATE:20180628
DTSTAMP:20260421T101141
CREATED:20180417T191716Z
LAST-MODIFIED:20180417T191716Z
UID:2183-1530057600-1530143999@www.massageonthespot.co.uk
SUMMARY:Office Massage\, ANZ Bank\, Canary Wharf
DESCRIPTION:
URL:https://www.massageonthespot.co.uk/event/office-massage-anz-bank-canary-wharf-3/
LOCATION:ANZ Bank\, 40 Bank Street\, London\, E14 5EJ
CATEGORIES:On-Site Office massage
ORGANIZER;CN="On The Spot":MAILTO:sally@massageonthespot.co.uk
END:VEVENT
BEGIN:VEVENT
DTSTART;VALUE=DATE:20180607
DTEND;VALUE=DATE:20180608
DTSTAMP:20260421T101141
CREATED:20180417T191402Z
LAST-MODIFIED:20180417T191402Z
UID:2180-1528329600-1528415999@www.massageonthespot.co.uk
SUMMARY:Office Massage\, ANZ Bank\, Canary Wharf
DESCRIPTION:
URL:https://www.massageonthespot.co.uk/event/office-massage-anz-bank-canary-wharf-2/
LOCATION:ANZ Bank\, 40 Bank Street\, London\, E14 5EJ
CATEGORIES:On-Site Office massage
ORGANIZER;CN="On The Spot":MAILTO:sally@massageonthespot.co.uk
END:VEVENT
BEGIN:VEVENT
DTSTART;TZID=Europe/London:20180525T093000
DTEND;TZID=Europe/London:20180525T170000
DTSTAMP:20260421T101141
CREATED:20171106T124217Z
LAST-MODIFIED:20171106T124217Z
UID:2018-1527240600-1527267600@www.massageonthespot.co.uk
SUMMARY:Office Massage\, Radcliffe\, Manchester
DESCRIPTION:
URL:https://www.massageonthespot.co.uk/event/office-massage-radcliffe-manchester-4/
LOCATION:Japanese Knotweed Solutions\, Itadori House\, Melton Street\, Radcliffe\, \, Manchester\, M26 4BR\, United Kingdom
CATEGORIES:On-Site Office massage
ORGANIZER;CN="On The Spot":MAILTO:sally@massageonthespot.co.uk
END:VEVENT
BEGIN:VEVENT
DTSTART;VALUE=DATE:20180509
DTEND;VALUE=DATE:20180510
DTSTAMP:20260421T101141
CREATED:20180417T190216Z
LAST-MODIFIED:20180417T190216Z
UID:2176-1525824000-1525910399@www.massageonthespot.co.uk
SUMMARY:Office Massage\, ANZ Bank\, Canary Wharf
DESCRIPTION:
URL:https://www.massageonthespot.co.uk/event/office-massage-anz-bank-canary-wharf/
LOCATION:ANZ Bank\, 40 Bank Street\, London\, E14 5EJ
CATEGORIES:On-Site Office massage
ORGANIZER;CN="On The Spot":MAILTO:sally@massageonthespot.co.uk
END:VEVENT
BEGIN:VEVENT
DTSTART;TZID=Europe/London:20180427T093000
DTEND;TZID=Europe/London:20180427T170000
DTSTAMP:20260421T101141
CREATED:20171106T124119Z
LAST-MODIFIED:20171106T124119Z
UID:2016-1524821400-1524848400@www.massageonthespot.co.uk
SUMMARY:Office Massage\, Radcliffe\, Manchester
DESCRIPTION:
URL:https://www.massageonthespot.co.uk/event/office-massage-radcliffe-manchester-3/
LOCATION:Japanese Knotweed Solutions\, Itadori House\, Melton Street\, Radcliffe\, \, Manchester\, M26 4BR\, United Kingdom
CATEGORIES:On-Site Office massage
ORGANIZER;CN="On The Spot":MAILTO:sally@massageonthespot.co.uk
END:VEVENT
BEGIN:VEVENT
DTSTART;VALUE=DATE:20180411
DTEND;VALUE=DATE:20180412
DTSTAMP:20260421T101141
CREATED:20171108T132657Z
LAST-MODIFIED:20171108T132657Z
UID:2032-1523404800-1523491199@www.massageonthespot.co.uk
SUMMARY:ANZ Bank Canary Wharf On-Site Office Massage
DESCRIPTION:
URL:https://www.massageonthespot.co.uk/event/anz-bank-canary-wharf-site-office-massage-10/
LOCATION:ANZ Bank\, 40 Bank Street\, London\, E14 5EJ
CATEGORIES:On-Site Office massage
ORGANIZER;CN="On The Spot":MAILTO:sally@massageonthespot.co.uk
END:VEVENT
BEGIN:VEVENT
DTSTART;VALUE=DATE:20180329
DTEND;VALUE=DATE:20180330
DTSTAMP:20260421T101141
CREATED:20171108T132623Z
LAST-MODIFIED:20171108T132623Z
UID:2030-1522281600-1522367999@www.massageonthespot.co.uk
SUMMARY:ANZ Bank Canary Wharf On-Site Office Massage
DESCRIPTION:
URL:https://www.massageonthespot.co.uk/event/anz-bank-canary-wharf-site-office-massage-9/
LOCATION:ANZ Bank\, 40 Bank Street\, London\, E14 5EJ
CATEGORIES:On-Site Office massage
ORGANIZER;CN="On The Spot":MAILTO:sally@massageonthespot.co.uk
END:VEVENT
BEGIN:VEVENT
DTSTART;TZID=Europe/London:20180323T093000
DTEND;TZID=Europe/London:20180323T170000
DTSTAMP:20260421T101141
CREATED:20171106T124036Z
LAST-MODIFIED:20171108T132050Z
UID:2014-1521797400-1521824400@www.massageonthespot.co.uk
SUMMARY:Office Massage\, Radcliffe\, Manchester
DESCRIPTION:
URL:https://www.massageonthespot.co.uk/event/office-massage-radcliffe-manchester-2/
LOCATION:Japanese Knotweed Solutions\, Itadori House\, Melton Street\, Radcliffe\, \, Manchester\, M26 4BR\, United Kingdom
CATEGORIES:On-Site Office massage
ORGANIZER;CN="On The Spot":MAILTO:sally@massageonthespot.co.uk
END:VEVENT
BEGIN:VEVENT
DTSTART;VALUE=DATE:20180301
DTEND;VALUE=DATE:20180302
DTSTAMP:20260421T101141
CREATED:20171108T132543Z
LAST-MODIFIED:20171108T132543Z
UID:2028-1519862400-1519948799@www.massageonthespot.co.uk
SUMMARY:ANZ Bank Canary Wharf On-Site Office Massage
DESCRIPTION:
URL:https://www.massageonthespot.co.uk/event/anz-bank-canary-wharf-site-office-massage-8/
LOCATION:ANZ Bank\, 40 Bank Street\, London\, E14 5EJ
CATEGORIES:On-Site Office massage
ORGANIZER;CN="On The Spot":MAILTO:sally@massageonthespot.co.uk
END:VEVENT
BEGIN:VEVENT
DTSTART;TZID=Europe/London:20180223T093000
DTEND;TZID=Europe/London:20180223T170000
DTSTAMP:20260421T101141
CREATED:20171106T123944Z
LAST-MODIFIED:20171106T123944Z
UID:2012-1519378200-1519405200@www.massageonthespot.co.uk
SUMMARY:Office Massage\, Radcliffe\, Manchester
DESCRIPTION:
URL:https://www.massageonthespot.co.uk/event/office-massage-radcliffe-manchester/
LOCATION:Japanese Knotweed Solutions\, Itadori House\, Melton Street\, Radcliffe\, \, Manchester\, M26 4BR\, United Kingdom
CATEGORIES:On-Site Office massage
ORGANIZER;CN="On The Spot":MAILTO:sally@massageonthespot.co.uk
END:VEVENT
BEGIN:VEVENT
DTSTART;VALUE=DATE:20180214
DTEND;VALUE=DATE:20180215
DTSTAMP:20260421T101141
CREATED:20171108T132511Z
LAST-MODIFIED:20171108T132511Z
UID:2026-1518566400-1518652799@www.massageonthespot.co.uk
SUMMARY:ANZ Bank Canary Wharf On-Site Office Massage
DESCRIPTION:
URL:https://www.massageonthespot.co.uk/event/anz-bank-canary-wharf-site-office-massage-7/
LOCATION:ANZ Bank\, 40 Bank Street\, London\, E14 5EJ
CATEGORIES:On-Site Office massage
ORGANIZER;CN="On The Spot":MAILTO:sally@massageonthespot.co.uk
END:VEVENT
BEGIN:VEVENT
DTSTART;VALUE=DATE:20180201
DTEND;VALUE=DATE:20180202
DTSTAMP:20260421T101141
CREATED:20171108T132436Z
LAST-MODIFIED:20171108T132436Z
UID:2024-1517443200-1517529599@www.massageonthespot.co.uk
SUMMARY:ANZ Bank Canary Wharf On-Site Office Massage
DESCRIPTION:
URL:https://www.massageonthespot.co.uk/event/anz-bank-canary-wharf-site-office-massage-6/
LOCATION:ANZ Bank\, 40 Bank Street\, London\, E14 5EJ
CATEGORIES:On-Site Office massage
ORGANIZER;CN="On The Spot":MAILTO:sally@massageonthespot.co.uk
END:VEVENT
BEGIN:VEVENT
DTSTART;TZID=Europe/London:20180126T093000
DTEND;TZID=Europe/London:20180126T170000
DTSTAMP:20260421T101141
CREATED:20171106T122851Z
LAST-MODIFIED:20171106T123542Z
UID:2009-1516959000-1516986000@www.massageonthespot.co.uk
SUMMARY:Office Massage\, Radcliffe\, Manchester
DESCRIPTION:
URL:https://www.massageonthespot.co.uk/event/office-massage-12/
LOCATION:Japanese Knotweed Solutions\, Itadori House\, Melton Street\, Radcliffe\, \, Manchester\, M26 4BR\, United Kingdom
CATEGORIES:On-Site Office massage
ORGANIZER;CN="On The Spot":MAILTO:sally@massageonthespot.co.uk
END:VEVENT
BEGIN:VEVENT
DTSTART;VALUE=DATE:20180118
DTEND;VALUE=DATE:20180119
DTSTAMP:20260421T101141
CREATED:20171108T132337Z
LAST-MODIFIED:20171108T132337Z
UID:2022-1516233600-1516319999@www.massageonthespot.co.uk
SUMMARY:ANZ Bank Canary Wharf On-Site Office Massage
DESCRIPTION:
URL:https://www.massageonthespot.co.uk/event/anz-bank-canary-wharf-site-office-massage-5/
LOCATION:ANZ Bank\, 40 Bank Street\, London\, E14 5EJ
CATEGORIES:On-Site Office massage
ORGANIZER;CN="On The Spot":MAILTO:sally@massageonthespot.co.uk
END:VEVENT
BEGIN:VEVENT
DTSTART;VALUE=DATE:20170421
DTEND;VALUE=DATE:20170422
DTSTAMP:20260421T101141
CREATED:20170328T101734Z
LAST-MODIFIED:20170328T101734Z
UID:1730-1492732800-1492819199@www.massageonthespot.co.uk
SUMMARY:Tamdown Group On-Site Office Massage
DESCRIPTION:
URL:https://www.massageonthespot.co.uk/event/tamdown-group-site-office-massage-6/
LOCATION:Tamdown Group\, 1 Tamdown Way\, Braintree\, Essex\, CM7 2QL\, United Kingdom
CATEGORIES:On-Site Office massage
ORGANIZER;CN="On The Spot":MAILTO:sally@massageonthespot.co.uk
END:VEVENT
END:VCALENDAR